BEGIN:VCALENDAR
VERSION:2.0
PRODID:http://www.pr-adenau-gerolstein.de
BEGIN:VEVENT
UID:10d928b9-3fba-11f1-a3e9-0242ac11002b-1777050000000-de
DTSTAMP:20260424T084620Z
DTSTART:20260424T170000Z
DTEND:20260424T190000Z
SUMMARY;LANGUAGE=de:Ute Bales liest aus ihrem Erzählband in Hillesheim
DESCRIPTION;LANGUAGE=de:Ute Bales liest aus ihrem Erzählband "Keiner mehr da". Der Eintritt ist frei. Spenen für die katholische öffentliche Bücherei St. Martin Hillesheim sind willkommen.
IMAGE;VALUE=URI;DISPLAY=BADGE;FMTTYPE=image/jpeg:http://www.pr-adenau-gerolstein.de/export/sites/pastr/adenau-gerolstein/.galleries/bilder/Lesung-Ute-Bales.jpg
END:VEVENT
END:VCALENDAR
