BEGIN:VCALENDAR
VERSION:2.0
PRODID:http://www.pr-adenau-gerolstein.de
BEGIN:VEVENT
UID:77a5dfee-3cc1-11f1-a3e9-0242ac11002b-1782230400000-de
DTSTAMP:20260420T140145Z
DTSTART:20260623T160000Z
DTEND:20260623T200000Z
SUMMARY;LANGUAGE=de:Grillfest für die neu gewählten Pfarrgemeinde- und Verwaltungsräte im Pastoralen Raum Adenau-Gerolstein
DESCRIPTION;LANGUAGE=de:Nach den vielen Sitzungen und Terminen rund um die Gremienwahlen ist es Zeit\, sich auch einmal in entspannter Atmosphäre zu begegnen und Danke zu sagen.
LOCATION;LANGUAGE=de:Am Viehmarkt\, 54576 Hillesheim\,
Das Gelände der Pfadfinder*innen befindet sich hinter der Viehmarkthalle.
IMAGE;VALUE=URI;DISPLAY=BADGE;FMTTYPE=image/jpeg:http://www.pr-adenau-gerolstein.de/export/sites/pastr/adenau-gerolstein/.galleries/bilder/Grillfest.png
END:VEVENT
END:VCALENDAR
